Workbook
Name a: #REF!
Name CF: #REF!
Name note2010: #REF!
Name qqq: #REF!

Sheet F10 -BS
A1: PENANG GLOBAL TOURISM SDN BHD
A2: STATEMENT OF FINANCIAL POSITION
A3: AS AT DEC 31, 2017
E6: Variance | F6: Audited
C7: As at Oct 2018 | D7: As at Oct 2017 | E7: YOY | F7: YE 2017
B8: Note | C8: RM | D8: RM | E8: RM | F8: RM
A9: Non Current Assets
A10: Property, plant and equipment | B10: 1 | C10: 127561.58 | D10: 152271.01 | E10: =C10-D10 -> -24709.43 | F10: 120058.58
C11: =SUM(C10:C10) -> 127561.58 | D11: =SUM(D10:D10) -> 152271.01 | E11: =SUM(E10:E10) -> -24709.43 | F11: 120058.58
A13: Current Assets
A14: Other Debtors | C14: 12000 | D14: 0 | E14: 0 | F14: 0
A15: Other receivables | C15: -8000 | D15: 23413.48 | E15: =C15-D15 -> -31413.48 | F15: 0
A16: Other current assets | B16: 2 | C16: =NTC!F32 -> 46012 | D16: =NTC!G32 -> 148035.35 | E16: =C16-D16 -> -102023.35 | F16: 1436452.9
A17: Provisional for Taxation | C17: 1432.25 | D17: 1363.02 | E17: =C17-D17 -> 69.23 | F17: 0
A18: Amount owing by holding corporation | E18: =C18-D18 -> 0
A19: Amount owing from State Government
A20: Interest Receicvable | E20: 0 | F20: 0
A21: Cash and bank balances | B21: 3 | C21: =NTC!F40 -> 4974697.5 | D21: =NTC!G40 -> 3996462.5 | E21: =C21-D21 -> 978234.97 | F21: 2962216.1
D22: 0
A23: Total current assets | C23: =SUM(C14:C22) -> 5026141.7 | D23: =SUM(D14:D22) -> 4169274.3 | E23: =SUM(E15:E22) -> 844867.37 | F23: 4398669
A25: Total Assets | C25: =C11+C23 -> 5153703.3 | D25: =D11+D23 -> 4321545.4 | E25: =E11+E23 -> 820157.94 | F25: 4518727.6
A27: Equity
A28: Share Capital | C28: 100003 | D28: 100003 | E28: =C28-D28 -> 0 | F28: 100003
A29: Profit & Loss A/C | C29: -100003 | D29: -100003 | E29: =C29-D29 -> 0 | F29: -100003
A30: Total Equity | C30: =SUM(C28:C29) -> 0 | D30: =SUM(D28:D29) -> 0 | E30: =SUM(E28:E29) -> 0 | F30: 0
A32: Non-Current Liabilities | C32: 0 | D32: 0 | E32: 0 | F32: 0
A34: Total Non-Current Liabilities | C34: =SUM(C33:C33) -> 0 | D34: =SUM(D33:D33) -> 0 | E34: =SUM(E33:E33) -> 0 | F34: 0
A36: Current Liabilities
A37: Other payables and accrued Expenses | B37: 4 | C37: =NTC!F49 -> 8776.5 | D37: =NTC!G49 -> 64144.4 | E37: =C37-D37 -> -55367.9 | F37: 1423078.4
A38: Deferred income | B38: 5 | C38: =NTC!F75 -> 5144926.8 | D38: 4257401 | E38: =C38-D38 -> 887525.84 | F38: 3095380.5
A39: Amount owing to PDC Premier Holdings | C39: 0
A40: Current tax payable | E40: =C40-D40 -> 0 | F40: 268.75
A41: Total Current Liabilities | C41: =SUM(C37:C40) -> 5153703.3 | D41: =SUM(D37:D40) -> 4321545.4 | E41: =SUM(E37:E40) -> 832157.94 | F41: 4518727.6
A43: Total Equity and Liabilities | C43: =C30+C41 -> 5153703.3 | D43: =D30+D41 -> 4321545.4 | E43: =E30+E41 -> 832157.94 | F43: 4518727.6

Sheet F20 IS
A1: PENANG GLOBAL TOURISM SDN BHD
A2: STATEMENT OF COMPREHENSIVE INCOME
A3: FOR THE FINANCIAL PERIOD ENDED FEB 28, 2018
C6: <YTD Oct 2018>
C7: Actual | D7: Budget | E7: Variance Actual vs Budget | F7: Actual YTD Oct 2017 | G7: Variance YOY | H7: Audited FYE 2017 | I7: Forecast (4+8) FYE 2018 | K7: Budget (Yearly)
B8: Note | C8: RM | D8: RM | E8: RM | F8: RM | G8: RM | H8: RM | I8: RM
A9: Revenue
A10: Sales (TIC) | C10: 14179.9 | D10: 10500 | E10: =C10-D10 -> 3679.9 | F10: 12395 | G10: =C10-F10 -> 1784.9 | H10: 14542.7
A12: Less:
A13: Cost of Sales
A14: Purchases | C14: 7955.9 | D14: 3675 | E14: =C14-D14 -> 4280.9 | F14: 6321.1 | G14: =C14-F14 -> 1634.8 | H14: 8188.27
A15: Gross profit from operation | C15: =C10-C14 -> 6224 | D15: =D10-D14 -> 6825 | E15: =E10-E14 -> -601 | F15: =F10-F14 -> 6073.9 | G15: =G10-G14 -> 150.1 | H15: 6354.43 | I15: =I10-I14 -> 0
A17: Other Income :
A18: Portion of Grant Utilised - State Govt | C18: 5820366.4 | E18: =C18-D18 -> 5820366.4 | F18: 7216910.7 | G18: =C18-F18 -> -1396544.2 | H18: 9471127.9
A19: Portion of Grant Utilised - Hotel Fee | C19: 5128960.2 | E19: =C19-D19 -> 5128960.2 | F19: 4589049.7 | G19: =C19-F19 -> 539910.54 | H19: 4834137.7
A20: Dividen Received | C20: 11.95 | E20: =C20-D20 -> 11.95 | F20: 339.01 | G20: =C20-F20 -> -327.06 | H20: 346.92 | M20: =C20+C21 -> 88384.83
A21: Interest Received | B21: 6 | C21: 88372.88 | E21: =C21-D21 -> 88372.88 | F21: 100128.52 | G21: =C21-F21 -> -11755.64 | H21: 121916.97
A22: Total Other operating income | C22: =SUM(C18:C21) -> 11037711 | D22: =SUM(D18:D21) -> 0 | E22: =SUM(E18:E21) -> 11037711 | F22: =SUM(F18:F21) -> 11906428 | G22: =SUM(G18:G21) -> -868716.4 | H22: 14427530 | I22: =SUM(I18:I21) -> 0
A23: Profit from operation | C23: =C22+C15 -> 11043935 | D23: =D22+D15 -> 6825 | E23: =E22+E15 -> 11037110 | F23: =F22+F15 -> 11912502 | G23: =G22+G15 -> -868566.3 | H23: 14433884 | I23: =I22+I15 -> 0
A25: Administration and general expenses
A26: Salary | C26: 930908.33 | D26: 772835 | E26: =C26-D26 -> 158073.33 | F26: 914999.04 | G26: =C26-F26 -> 15909.29 | H26: 1108740.2 | K26: 1200060 | L26: =K26/12*7 -> 700035
A27: Allowance | C27: 7000 | D27: 4900 | E27: =C27-D27 -> 2100 | F27: 7000 | G27: =C27-F27 -> 0 | H27: 8400 | K27: 8400 | L27: =K27/12*7 -> 4900
A28: Bonus/Incentive | C28: 19794.7 | D28: 128805.83 | E28: =C28-D28 -> -109011.13 | F28: 65003.18 | G28: =C28-F28 -> -45208.48 | H28: 101462.2 | K28: 200010 | L28: =K28/12*7 -> 116672.5
A29: Epf | C29: 113958 | D29: 117213.31 | E29: =C29-D29 -> -3255.3083 | F29: 112470 | G29: =C29-F29 -> 1488 | H29: 136246 | K29: 182009.1 | L29: =K29/12*7 -> 106171.98
A30: Socso | C30: 11700.35 | D30: 8750 | E30: =C30-D30 -> 2950.35 | F30: 12101.45 | G30: =C30-F30 -> -401.1 | H30: 14568.05 | K30: 15000 | L30: =K30/12*7 -> 8750
A31: EIS | C31: 1260.5 | D31: 0 | E31: =C31-D31 -> 1260.5 | G31: =C31-F31 -> 1260.5 | H31: 0
A32: Medical Fee | C32: 1853 | D32: 4806.6667 | E32: =C32-D32 -> -2953.6667 | F32: 1439 | G32: =C32-F32 -> 414 | H32: 1683 | K32: 8240 | L32: =K32/12*7 -> 4806.6667
A33: Overtime | C33: 1740 | D33: 1400 | E33: =C33-D33 -> 340 | F33: 1682.99 | G33: =C33-F33 -> 57.01 | H33: 1982.99 | K33: 2400 | L33: =K33/12*7 -> 1400
A34: Insurance | C34: 48746.1 | D34: 27416.667 | E34: =C34-D34 -> 21329.433 | F34: 45202.69 | G34: =C34-F34 -> 3543.41 | H34: 45598.16 | K34: 45000 | L34: =K34/12*7 -> 26250
A35: Gratuity | C35: 0 | D35: 0 | E35: =C35-D35 -> 0 | F35: 17843.13 | G35: =C35-F35 -> -17843.13 | H35: 17843.13 | K35: 20000 | L35: 0
A36: Trainee & Trainer Allowance | C36: 2100 | D36: 5600 | E36: =C36-D36 -> -3500 | F36: 2771.75 | G36: =C36-F36 -> -671.75 | H36: 2771.75 | K36: 10000 | L36: =K36/12*7 -> 5833.3333
A37: Mileage/Toll Claims/Petrol | C37: 13477.35 | D37: 10500 | E37: =C37-D37 -> 2977.35 | F37: 11175.23 | G37: =C37-F37 -> 2302.12 | H37: 14318.77 | K37: 21000 | L37: =K37/12*7 -> 12250
A38: Local Travel | C38: 14102.83 | D38: 61250 | E38: =C38-D38 -> -47147.17 | F38: 12171.63 | G38: =C38-F38 -> 1931.2 | H38: 15244.99 | K38: 105000 | L38: =K38/12*7 -> 61250
A39: Training & Development | C39: 80 | D39: 14000 | E39: =C39-D39 -> -13920 | F39: 7102 | G39: =C39-F39 -> -7022 | H39: 8332 | K39: 25000 | L39: =K39/12*7 -> 14583.333
A40: Staff Uniform | C40: 2261.5 | D40: 2333.3333 | E40: =C40-D40 -> -71.833333 | G40: =C40-F40 -> 2261.5 | H40: 0 | K40: 4000 | L40: =K40/12*7 -> 2333.3333
A41: Team Building & Others | D41: 4200 | E41: =C41-D41 -> -4200 | G41: =C41-F41 -> 0 | H41: 4490.01 | K41: 6800 | L41: =K41/12*7 -> 3966.6667
A42: Annual Dinner | D42: 5250 | E42: =C42-D42 -> -5250 | G42: =C42-F42 -> 0 | H42: 2400 | K42: 12000 | L42: 0
A43: Telephone/Emails/Fax | C43: 24856.09 | D43: 24871 | E43: =C43-D43 -> -14.91 | F43: 34255.6 | G43: =C43-F43 -> -9399.51 | H43: 42333.57 | K43: 42636 | L43: =K43/12*7 -> 24871
A44: Postage & Courier | C44: 10485.7 | D44: 11666.667 | E44: =C44-D44 -> -1180.9667 | F44: 14132.36 | G44: =C44-F44 -> -3646.66 | H44: 15197.11 | K44: 20000 | L44: =K44/12*7 -> 11666.667
A45: Office Rental | C45: 103659.2 | D45: 75250 | E45: =C45-D45 -> 28409.2 | F45: 108496.4 | G45: =C45-F45 -> -4837.2 | H45: 129832.08 | K45: 136300 | L45: =K45/12*7 -> 79508.333
...

Sheet NTC
A1: PENANG GLOBAL TOURISM SDN BHD
A2: NOTE TO ACCOUNT
A4: 1) | B4: PROPERTY, PLANT AND EQUIPMENT
B5: Property, plant and equipment consist of the following:
D7: COST
D8: Balance as of 1 Jan 2018 (RM) | E8: Additions (RM) | F8: Disposal (RM) | G8: Balance as of 31 Dec 2018 (RM) | I8: Book Value as of 31 Dec 2018 (RM)
B9: Computers | D9: 96859.08 | E9: 4358 | F9: 2790 | G9: =D9+E9-F9 -> 98427.08 | I9: 17261.05
B10: Office Equipment | D10: 62454.8 | E10: 0 | F10: 1050 | G10: =D10+E10-F10 -> 61404.8 | I10: 29142.52
B11: Furniture & Fitting | D11: 158220.25 | E11: 0 | F11: 417 | G11: =D11+E11-F11 -> 157803.25 | I11: 79181.62
B12: Software | D12: 12457.99 | E12: 0 | F12: 0 | G12: =D12+E12 -> 12457.99 | I12: 1065.39
B13: Motor Vehicle | D13: 58342.5 | E13: 0 | F13: 0 | G13: =D13+E13 -> 58342.5 | I13: 2
B14: Office Renovation | D14: 181230.5 | E14: 0 | F14: 0 | G14: =D14+E14 -> 181230.5 | I14: 906
B15: Electrical Installation | D15: 136718 | E15: 0 | F15: 0 | G15: =D15+E15 -> 136718 | I15: 2
D16: =SUM(D9:D15) -> 706283.12 | E16: =SUM(E9:E15) -> 4358 | F16: =SUM(F9:F15) -> 4257 | G16: =SUM(G9:G15) -> 706384.12 | I16: =SUM(I9:I15) -> 127560.58
A19: 2) | B19: OTHER RECEIVABLES
F20: Nov 2017 | G20: Nov 2016
B21: Debtors | F21: 0 | G21: 0
F22: =SUM(F21:F21) -> 0 | G22: =SUM(G21:G21) -> 0
A24: 2) | B24: OTHER CURRENT ASSETS
F26: Oct 2018 | G26: Oct 2017
B27: Deposit refundable | F27: 46012 | G27: 54012
B28: Amomunt Owing from Holding Co. - PDC | F28: 0
B29: Amount Owing from State Govt. | F29: 0 | G29: 0
B30: Prepayments | F30: 0 | G30: 0
B31: Interest receivable | F31: 0 | G31: 94023.35
F32: =SUM(F27:F31) -> 46012 | G32: =SUM(G27:G31) -> 148035.35
A34: 3) | B34: CASH & BANK BALANCES
F35: Oct 2018 | G35: Oct 2017
B36: Cash in hand | F36: 515.54 | G36: 1346.84
B37: Cash at bank :-
B38: Current account | F38: 214997.24 | G38: 60115.65
B39: Short term money market deposit | F39: 4759184.7 | G39: 3935000
F40: =SUM(F36:F39) -> 4974697.5 | G40: =SUM(G36:G39) -> 3996462.5
A42: 4) | B42: OTHER PAYABLE AND ACCRUED EXPENSES
F43: Oct 2018 | G43: Oct 2017
B45: Other payable | F45: 976.5 | G45: 909.6
B46: Other Receivable
B47: Amount Owing to PDC Premier
B48: Accrued Expenses | F48: 7800 | G48: 63234.8
F49: =SUM(F45:F48) -> 8776.5 | G49: =SUM(G45:G48) -> 64144.4
...
